BEGIN:VCALENDAR
VERSION:2.0
PRODID:-// - ECPv6.15.20//NONSGML v1.0//EN
CALSCALE:GREGORIAN
METHOD:PUBLISH
X-ORIGINAL-URL:https://congregationansheemeth.site
X-WR-CALDESC:Events for 
REFRESH-INTERVAL;VALUE=DURATION:PT1H
X-Robots-Tag:noindex
X-PUBLISHED-TTL:PT1H
BEGIN:VTIMEZONE
TZID:UTC
BEGIN:STANDARD
TZOFFSETFROM:+0000
TZOFFSETTO:+0000
TZNAME:UTC
DTSTART:20230101T000000
END:STANDARD
END:VTIMEZONE
BEGIN:VTIMEZONE
TZID:Asia/Dubai
BEGIN:STANDARD
TZOFFSETFROM:+0400
TZOFFSETTO:+0400
TZNAME:+04
DTSTART:20230101T000000
END:STANDARD
END:VTIMEZONE
BEGIN:VEVENT
DTSTART;TZID=UTC:20250302T170000
DTEND;TZID=UTC:20250302T170000
DTSTAMP:20260423T181958
CREATED:20250227T165744Z
LAST-MODIFIED:20250227T165744Z
UID:693-1740934800-1740934800@congregationansheemeth.site
SUMMARY:Last Twilight in Paris Zoom Class
DESCRIPTION:In Honor of Women’s History Month \nA Virtual Evening with New York Times Bestselling Author \nPam Jenoff \nAuthor of \nLast Twilight in Paris \nNew this week on the NEW YORK TIMES BEST SELLER LIST \nin Conversation with \nDr. Miriam Klein Kassenoff \n\nA Parisian department store\, a mysterious necklace and a woman’s quest to unlock a decade-old mystery are at the center of this riveting novel of love and survival\, from New York Times bestselling author\, Pam Jenoff.
URL:https://congregationansheemeth.site/event/last-twilight-in-paris-zoom-class/
LOCATION:NY
END:VEVENT
BEGIN:VEVENT
DTSTART;TZID=UTC:20250222T100000
DTEND;TZID=UTC:20250222T100000
DTSTAMP:20260423T181958
CREATED:20250109T155521Z
LAST-MODIFIED:20250109T155521Z
UID:645-1740218400-1740218400@congregationansheemeth.site
SUMMARY:Services
DESCRIPTION:
URL:https://congregationansheemeth.site/event/services-4/
LOCATION:Congregation Anshe Emeth\, 240 Joslen Blvd.\, Hudson\, NY
END:VEVENT
BEGIN:VEVENT
DTSTART;TZID=UTC:20250207T190000
DTEND;TZID=UTC:20250207T190000
DTSTAMP:20260423T181958
CREATED:20250109T155431Z
LAST-MODIFIED:20250109T155431Z
UID:642-1738954800-1738954800@congregationansheemeth.site
SUMMARY:Services
DESCRIPTION:
URL:https://congregationansheemeth.site/event/services-3/
LOCATION:Congregation Anshe Emeth\, 240 Joslen Blvd.\, Hudson\, NY
END:VEVENT
BEGIN:VEVENT
DTSTART;TZID=UTC:20250125T100000
DTEND;TZID=UTC:20250125T100000
DTSTAMP:20260423T181958
CREATED:20250101T144957Z
LAST-MODIFIED:20250101T144957Z
UID:633-1737799200-1737799200@congregationansheemeth.site
SUMMARY:Services
DESCRIPTION:
URL:https://congregationansheemeth.site/event/services-2/
LOCATION:Congregation Anshe Emeth\, 240 Joslen Blvd.\, Hudson\, NY
END:VEVENT
BEGIN:VEVENT
DTSTART;TZID=UTC:20250110T190000
DTEND;TZID=UTC:20250110T190000
DTSTAMP:20260423T181958
CREATED:20250101T144922Z
LAST-MODIFIED:20250103T145502Z
UID:631-1736535600-1736535600@congregationansheemeth.site
SUMMARY:Services
DESCRIPTION:
URL:https://congregationansheemeth.site/event/services/
LOCATION:Congregation Anshe Emeth\, 240 Joslen Blvd.\, Hudson\, NY
END:VEVENT
BEGIN:VEVENT
DTSTART;TZID=UTC:20241225T000000
DTEND;TZID=UTC:20241225T000000
DTSTAMP:20260423T181958
CREATED:20240906T183409Z
LAST-MODIFIED:20240906T183409Z
UID:294-1735084800-1735084800@congregationansheemeth.site
SUMMARY:Chanukah 1st Candle
DESCRIPTION:
URL:https://congregationansheemeth.site/event/chanukah-1st-candle/
LOCATION:NY
END:VEVENT
BEGIN:VEVENT
DTSTART;TZID=UTC:20241222T110000
DTEND;TZID=UTC:20241222T110000
DTSTAMP:20260423T181959
CREATED:20241030T152054Z
LAST-MODIFIED:20241030T152054Z
UID:485-1734865200-1734865200@congregationansheemeth.site
SUMMARY:Chanukah Party
DESCRIPTION:
URL:https://congregationansheemeth.site/event/chanukah-party/
LOCATION:Congregation Anshe Emeth\, 240 Joslen Blvd.\, Hudson\, NY
END:VEVENT
BEGIN:VEVENT
DTSTART;TZID=UTC:20241221T100000
DTEND;TZID=UTC:20241221T100000
DTSTAMP:20260423T181959
CREATED:20241015T152949Z
LAST-MODIFIED:20241015T152949Z
UID:373-1734775200-1734775200@congregationansheemeth.site
SUMMARY:Saturday Service
DESCRIPTION:Join us for service at 10 am.
URL:https://congregationansheemeth.site/event/saturday-service/
LOCATION:Congregation Anshe Emeth\, 240 Joslen Blvd.\, Hudson\, NY
END:VEVENT
BEGIN:VEVENT
DTSTART;TZID=UTC:20241207T000000
DTEND;TZID=UTC:20241207T235959
DTSTAMP:20260423T181959
CREATED:20241015T152841Z
LAST-MODIFIED:20241015T152841Z
UID:371-1733529600-1733615999@congregationansheemeth.site
SUMMARY:Winter Walk
DESCRIPTION:
URL:https://congregationansheemeth.site/event/winter-walk/
LOCATION:NY
END:VEVENT
BEGIN:VEVENT
DTSTART;TZID=UTC:20241206T190000
DTEND;TZID=UTC:20241206T190000
DTSTAMP:20260423T181959
CREATED:20241015T152726Z
LAST-MODIFIED:20241015T152726Z
UID:368-1733511600-1733511600@congregationansheemeth.site
SUMMARY:Friday Night Service
DESCRIPTION:Friday night services at 7 pm.
URL:https://congregationansheemeth.site/event/friday-night-service-2/
LOCATION:Congregation Anshe Emeth\, 240 Joslen Blvd.\, Hudson\, NY
END:VEVENT
BEGIN:VEVENT
DTSTART;TZID=UTC:20241117T100000
DTEND;TZID=UTC:20241117T100000
DTSTAMP:20260423T181959
CREATED:20240923T134801Z
LAST-MODIFIED:20240923T134801Z
UID:318-1731837600-1731837600@congregationansheemeth.site
SUMMARY:Membership Meeting
DESCRIPTION:
URL:https://congregationansheemeth.site/event/membership-meeting/
LOCATION:Congregation Anshe Emeth\, 240 Joslen Blvd.\, Hudson\, NY
END:VEVENT
BEGIN:VEVENT
DTSTART;TZID=UTC:20241116T100000
DTEND;TZID=UTC:20241116T100000
DTSTAMP:20260423T181959
CREATED:20240923T135053Z
LAST-MODIFIED:20240923T135053Z
UID:322-1731751200-1731751200@congregationansheemeth.site
SUMMARY:Saturday Morning Service
DESCRIPTION:
URL:https://congregationansheemeth.site/event/saturday-morning-service-2/
LOCATION:Congregation Anshe Emeth\, 240 Joslen Blvd.\, Hudson\, NY
END:VEVENT
BEGIN:VEVENT
DTSTART;TZID=UTC:20241108T190000
DTEND;TZID=UTC:20241108T190000
DTSTAMP:20260423T181959
CREATED:20240923T134946Z
LAST-MODIFIED:20240923T134946Z
UID:320-1731092400-1731092400@congregationansheemeth.site
SUMMARY:Friday Night Service
DESCRIPTION:
URL:https://congregationansheemeth.site/event/friday-night-service/
LOCATION:Congregation Anshe Emeth\, 240 Joslen Blvd.\, Hudson\, NY
END:VEVENT
BEGIN:VEVENT
DTSTART;TZID=UTC:20241104T190000
DTEND;TZID=UTC:20241104T190000
DTSTAMP:20260423T181959
CREATED:20241015T152559Z
LAST-MODIFIED:20241015T152559Z
UID:366-1730746800-1730746800@congregationansheemeth.site
SUMMARY:Ahead of Time- The Extraordinary Life of Ruth Gruber
DESCRIPTION:Join us for the showing of Ahead of Time- The Extraordinary Life of Ruth Gruber.
URL:https://congregationansheemeth.site/event/ahead-of-time-the-extraordinary-life-of-ruth-gruber/
LOCATION:Congregation Anshe Emeth\, 240 Joslen Blvd.\, Hudson\, NY
END:VEVENT
BEGIN:VEVENT
DTSTART;TZID=UTC:20241024T100000
DTEND;TZID=UTC:20241024T100000
DTSTAMP:20260423T181959
CREATED:20240923T135412Z
LAST-MODIFIED:20241023T132836Z
UID:326-1729764000-1729764000@congregationansheemeth.site
SUMMARY:Shemini Atzeret
DESCRIPTION:-Shacharit 10 a.m. \n-Yizkor 10:45 a.m.
URL:https://congregationansheemeth.site/event/shemini-atzeret-2/
LOCATION:Congregation Anshe Emeth\, 240 Joslen Blvd.\, Hudson\, NY
END:VEVENT
BEGIN:VEVENT
DTSTART;TZID=UTC:20241019T100000
DTEND;TZID=UTC:20241019T100000
DTSTAMP:20260423T181959
CREATED:20240920T152520Z
LAST-MODIFIED:20240920T152622Z
UID:313-1729332000-1729332000@congregationansheemeth.site
SUMMARY:Service
DESCRIPTION:Dedication of Sukkah in memory of Rabbi Fried and in honor of Denise Fried. Luncheon to follow the service.
URL:https://congregationansheemeth.site/event/service/
LOCATION:Congregation Anshe Emeth\, 240 Joslen Blvd.\, Hudson\, NY
END:VEVENT
BEGIN:VEVENT
DTSTART;TZID=UTC:20241017T000000
DTEND;TZID=UTC:20241017T235959
DTSTAMP:20260423T181959
CREATED:20240923T135206Z
LAST-MODIFIED:20240923T135206Z
UID:324-1729123200-1729209599@congregationansheemeth.site
SUMMARY:Sukkot
DESCRIPTION:1st Day of Sukkot
URL:https://congregationansheemeth.site/event/sukkot/
LOCATION:NY
END:VEVENT
BEGIN:VEVENT
DTSTART;TZID=UTC:20241017T000000
DTEND;TZID=UTC:20241017T000000
DTSTAMP:20260423T181959
CREATED:20240906T183153Z
LAST-MODIFIED:20240906T183153Z
UID:290-1729123200-1729123200@congregationansheemeth.site
SUMMARY:Sukkot 1st Day
DESCRIPTION:
URL:https://congregationansheemeth.site/event/sukkot-1st-day/
LOCATION:NY
END:VEVENT
BEGIN:VEVENT
DTSTART;TZID=Asia/Dubai:20241012T100000
DTEND;TZID=Asia/Dubai:20241012T100000
DTSTAMP:20260423T181959
CREATED:20240827T184934Z
LAST-MODIFIED:20240828T163542Z
UID:236-1728727200-1728727200@congregationansheemeth.site
SUMMARY:Yom Kippor
DESCRIPTION:Morning Services: 10:00 AM\nYizkor Memorial Services: 12:00 PM\nMincha/ Ne’ilah Services: 5:30 PM
URL:https://congregationansheemeth.site/event/yom-kippor/
LOCATION:NY
END:VEVENT
BEGIN:VEVENT
DTSTART;TZID=Asia/Dubai:20241011T180000
DTEND;TZID=Asia/Dubai:20241011T180000
DTSTAMP:20260423T181959
CREATED:20240827T184836Z
LAST-MODIFIED:20240829T172244Z
UID:234-1728669600-1728669600@congregationansheemeth.site
SUMMARY:Kol Nidre
DESCRIPTION:
URL:https://congregationansheemeth.site/event/ol-nidre-tashlich-service/
LOCATION:NY
END:VEVENT
BEGIN:VEVENT
DTSTART;TZID=UTC:20241009T170000
DTEND;TZID=UTC:20241009T170000
DTSTAMP:20260423T181959
CREATED:20240923T134340Z
LAST-MODIFIED:20240923T134422Z
UID:316-1728493200-1728493200@congregationansheemeth.site
SUMMARY:Board Meeting
DESCRIPTION:
URL:https://congregationansheemeth.site/event/board-meeting-2/
LOCATION:Congregation Anshe Emeth\, 240 Joslen Blvd.\, Hudson\, NY
END:VEVENT
BEGIN:VEVENT
DTSTART;TZID=Asia/Dubai:20241004T100000
DTEND;TZID=Asia/Dubai:20241004T100000
DTSTAMP:20260423T181959
CREATED:20240827T184745Z
LAST-MODIFIED:20240828T163557Z
UID:232-1728036000-1728036000@congregationansheemeth.site
SUMMARY:2nd Day of Rosh Hashanah
DESCRIPTION:
URL:https://congregationansheemeth.site/event/2nd-day-of-rosh-hashanah/
LOCATION:NY
END:VEVENT
BEGIN:VEVENT
DTSTART;TZID=Asia/Dubai:20241003T143000
DTEND;TZID=Asia/Dubai:20241003T143000
DTSTAMP:20260423T181959
CREATED:20240829T004006Z
LAST-MODIFIED:20240920T151718Z
UID:284-1727965800-1727965800@congregationansheemeth.site
SUMMARY:Tashlich Service
DESCRIPTION:
URL:https://congregationansheemeth.site/event/tashlich-service-2/
LOCATION:Henry Hudson Riverfront Park\, 1 Water Street Road\, Hudson\, NY\, 12534\, United States
END:VEVENT
BEGIN:VEVENT
DTSTART;TZID=Asia/Dubai:20241003T100000
DTEND;TZID=Asia/Dubai:20241003T100000
DTSTAMP:20260423T181959
CREATED:20240827T184631Z
LAST-MODIFIED:20240828T163614Z
UID:230-1727949600-1727949600@congregationansheemeth.site
SUMMARY:1st Day of Rosh Hashanah
DESCRIPTION:
URL:https://congregationansheemeth.site/event/1st-day-of-rosh-hashanah/
LOCATION:NY
END:VEVENT
BEGIN:VEVENT
DTSTART;TZID=Asia/Dubai:20241002T190000
DTEND;TZID=Asia/Dubai:20241002T190000
DTSTAMP:20260423T181959
CREATED:20240827T183433Z
LAST-MODIFIED:20240828T163632Z
UID:228-1727895600-1727895600@congregationansheemeth.site
SUMMARY:Erev Rosh Hashanah
DESCRIPTION:
URL:https://congregationansheemeth.site/event/erev-rosh-hashanah/
LOCATION:NY
END:VEVENT
BEGIN:VEVENT
DTSTART;TZID=Asia/Dubai:20240922T150000
DTEND;TZID=Asia/Dubai:20240922T150000
DTSTAMP:20260423T181959
CREATED:20240827T183337Z
LAST-MODIFIED:20240828T163648Z
UID:226-1727017200-1727017200@congregationansheemeth.site
SUMMARY:Open House
DESCRIPTION:3:00 PM Open House \n4:00 See and hear Michael Twitty\, Author of Koshursoul on Screen (via Zoom)
URL:https://congregationansheemeth.site/event/open-house/
LOCATION:NY
END:VEVENT
BEGIN:VEVENT
DTSTART;TZID=Asia/Dubai:20240918T190000
DTEND;TZID=Asia/Dubai:20240918T190000
DTSTAMP:20260423T181959
CREATED:20240827T183245Z
LAST-MODIFIED:20240828T163705Z
UID:224-1726686000-1726686000@congregationansheemeth.site
SUMMARY:Board Meeting
DESCRIPTION:
URL:https://congregationansheemeth.site/event/board-meeting/
LOCATION:NY
END:VEVENT
BEGIN:VEVENT
DTSTART;TZID=Asia/Dubai:20240917T130000
DTEND;TZID=Asia/Dubai:20240917T130000
DTSTAMP:20260423T181959
CREATED:20240827T183134Z
LAST-MODIFIED:20240828T171148Z
UID:221-1726578000-1726578000@congregationansheemeth.site
SUMMARY:Help Cook at Synagogue
DESCRIPTION:
URL:https://congregationansheemeth.site/event/help-cook-at-synagogue/
LOCATION:NY
END:VEVENT
BEGIN:VEVENT
DTSTART;TZID=Asia/Dubai:20240914T100000
DTEND;TZID=Asia/Dubai:20240914T100000
DTSTAMP:20260423T181959
CREATED:20240827T183000Z
LAST-MODIFIED:20240828T163747Z
UID:218-1726308000-1726308000@congregationansheemeth.site
SUMMARY:Saturday Morning Service
DESCRIPTION:
URL:https://congregationansheemeth.site/event/saturday-morning-service/
LOCATION:NY
END:VEVENT
BEGIN:VEVENT
DTSTART;TZID=Asia/Dubai:20240912T160000
DTEND;TZID=Asia/Dubai:20240912T173000
DTSTAMP:20260423T181959
CREATED:20240827T182451Z
LAST-MODIFIED:20240906T182901Z
UID:216-1726156800-1726162200@congregationansheemeth.site
SUMMARY:Hebrew School Starts
DESCRIPTION:
URL:https://congregationansheemeth.site/event/hebrew-school-starts/
LOCATION:NY
END:VEVENT
END:VCALENDAR