BEGIN:VCALENDAR
VERSION:2.0
PRODID:-// - ECPv6.15.20//NONSGML v1.0//EN
CALSCALE:GREGORIAN
METHOD:PUBLISH
X-ORIGINAL-URL:https://congregationansheemeth.site
X-WR-CALDESC:Events for 
REFRESH-INTERVAL;VALUE=DURATION:PT1H
X-Robots-Tag:noindex
X-PUBLISHED-TTL:PT1H
BEGIN:VTIMEZONE
TZID:UTC
BEGIN:STANDARD
TZOFFSETFROM:+0000
TZOFFSETTO:+0000
TZNAME:UTC
DTSTART:20230101T000000
END:STANDARD
END:VTIMEZONE
BEGIN:VEVENT
DTSTART;TZID=UTC:20250607T000000
DTEND;TZID=UTC:20250607T235959
DTSTAMP:20260423T151847
CREATED:20250327T135442Z
LAST-MODIFIED:20250327T135442Z
UID:710-1749254400-1749340799@congregationansheemeth.site
SUMMARY:Luncheon to Honor Denise Fried
DESCRIPTION:
URL:https://congregationansheemeth.site/event/luncheon-to-honor-denise-fried/
LOCATION:Congregation Anshe Emeth\, 240 Joslen Blvd.\, Hudson\, NY
END:VEVENT
BEGIN:VEVENT
DTSTART;TZID=UTC:20250524T100000
DTEND;TZID=UTC:20250524T100000
DTSTAMP:20260423T151847
CREATED:20250417T144119Z
LAST-MODIFIED:20250417T144119Z
UID:821-1748080800-1748080800@congregationansheemeth.site
SUMMARY:Services
DESCRIPTION:
URL:https://congregationansheemeth.site/event/services-10/
LOCATION:Congregation Anshe Emeth\, 240 Joslen Blvd.\, Hudson\, NY
END:VEVENT
BEGIN:VEVENT
DTSTART;TZID=UTC:20250514T183000
DTEND;TZID=UTC:20250514T183000
DTSTAMP:20260423T151847
CREATED:20250327T141055Z
LAST-MODIFIED:20250327T141055Z
UID:717-1747247400-1747247400@congregationansheemeth.site
SUMMARY:Adult Education Zoom Class
DESCRIPTION:
URL:https://congregationansheemeth.site/event/adult-education-zoom-class-2/
LOCATION:NY
END:VEVENT
BEGIN:VEVENT
DTSTART;TZID=UTC:20250509T190000
DTEND;TZID=UTC:20250509T190000
DTSTAMP:20260423T151847
CREATED:20250417T144040Z
LAST-MODIFIED:20250417T144040Z
UID:819-1746817200-1746817200@congregationansheemeth.site
SUMMARY:Services
DESCRIPTION:
URL:https://congregationansheemeth.site/event/services-9/
LOCATION:Congregation Anshe Emeth\, 240 Joslen Blvd.\, Hudson\, NY
END:VEVENT
BEGIN:VEVENT
DTSTART;TZID=UTC:20250429T000000
DTEND;TZID=UTC:20250429T235959
DTSTAMP:20260423T151847
CREATED:20250327T135402Z
LAST-MODIFIED:20250327T135402Z
UID:708-1745884800-1745971199@congregationansheemeth.site
SUMMARY:Challah Baking Class
DESCRIPTION:
URL:https://congregationansheemeth.site/event/challah-baking-class/
LOCATION:Congregation Anshe Emeth\, 240 Joslen Blvd.\, Hudson\, NY
END:VEVENT
BEGIN:VEVENT
DTSTART;TZID=UTC:20250427T074500
DTEND;TZID=UTC:20250427T074500
DTSTAMP:20260423T151847
CREATED:20250101T144751Z
LAST-MODIFIED:20250327T135132Z
UID:629-1745739900-1745739900@congregationansheemeth.site
SUMMARY:Trip to NYC
DESCRIPTION:Join us for a bus trip to the Anne Frank exhibit in NYC. The bus will leave from Congregation Anshe Emeth. Departing from the synagogue at 7:45 am.
URL:https://congregationansheemeth.site/event/trip-to-nyc/
LOCATION:Congregation Anshe Emeth\, 240 Joslen Blvd.\, Hudson\, NY
END:VEVENT
BEGIN:VEVENT
DTSTART;TZID=UTC:20250426T100000
DTEND;TZID=UTC:20250426T100000
DTSTAMP:20260423T151847
CREATED:20250109T160213Z
LAST-MODIFIED:20250109T160213Z
UID:662-1745661600-1745661600@congregationansheemeth.site
SUMMARY:Services
DESCRIPTION:
URL:https://congregationansheemeth.site/event/services-8/
LOCATION:Congregation Anshe Emeth\, 240 Joslen Blvd.\, Hudson\, NY
END:VEVENT
BEGIN:VEVENT
DTSTART;TZID=UTC:20250424T190000
DTEND;TZID=UTC:20250424T190000
DTSTAMP:20260423T151847
CREATED:20250109T160128Z
LAST-MODIFIED:20250327T134938Z
UID:660-1745521200-1745521200@congregationansheemeth.site
SUMMARY:Yom HaShoah
DESCRIPTION:
URL:https://congregationansheemeth.site/event/yom-hashoah/
LOCATION:Congregation Anshe Emeth\, 240 Joslen Blvd.\, Hudson\, NY
END:VEVENT
BEGIN:VEVENT
DTSTART;TZID=UTC:20250422T190000
DTEND;TZID=UTC:20250422T190000
DTSTAMP:20260423T151847
CREATED:20250327T135314Z
LAST-MODIFIED:20250327T135314Z
UID:706-1745348400-1745348400@congregationansheemeth.site
SUMMARY:Board Meeting
DESCRIPTION:
URL:https://congregationansheemeth.site/event/board-meeting-3/
LOCATION:Congregation Anshe Emeth\, 240 Joslen Blvd.\, Hudson\, NY
END:VEVENT
BEGIN:VEVENT
DTSTART;TZID=UTC:20250420T100000
DTEND;TZID=UTC:20250420T100000
DTSTAMP:20260423T151847
CREATED:20250327T135550Z
LAST-MODIFIED:20250327T135550Z
UID:712-1745143200-1745143200@congregationansheemeth.site
SUMMARY:Yizkor Service
DESCRIPTION:
URL:https://congregationansheemeth.site/event/yizkor-service/
LOCATION:Congregation Anshe Emeth\, 240 Joslen Blvd.\, Hudson\, NY
END:VEVENT
BEGIN:VEVENT
DTSTART;TZID=UTC:20250413T180000
DTEND;TZID=UTC:20250413T180000
DTSTAMP:20260423T151847
CREATED:20250109T160050Z
LAST-MODIFIED:20250313T144046Z
UID:658-1744567200-1744567200@congregationansheemeth.site
SUMMARY:Passover Seder
DESCRIPTION:
URL:https://congregationansheemeth.site/event/passover-seder/
LOCATION:Congregation Anshe Emeth\, 240 Joslen Blvd.\, Hudson\, NY
END:VEVENT
BEGIN:VEVENT
DTSTART;TZID=UTC:20250409T183000
DTEND;TZID=UTC:20250409T183000
DTSTAMP:20260423T151847
CREATED:20250327T141021Z
LAST-MODIFIED:20250327T141021Z
UID:715-1744223400-1744223400@congregationansheemeth.site
SUMMARY:Adult Education Zoom Class
DESCRIPTION:
URL:https://congregationansheemeth.site/event/adult-education-zoom-class/
LOCATION:NY
END:VEVENT
BEGIN:VEVENT
DTSTART;TZID=UTC:20250404T190000
DTEND;TZID=UTC:20250404T190000
DTSTAMP:20260423T151847
CREATED:20250109T160015Z
LAST-MODIFIED:20250327T134817Z
UID:656-1743793200-1743793200@congregationansheemeth.site
SUMMARY:Services
DESCRIPTION:
URL:https://congregationansheemeth.site/event/services-7/
LOCATION:Congregation Anshe Emeth\, 240 Joslen Blvd.\, Hudson\, NY
END:VEVENT
BEGIN:VEVENT
DTSTART;TZID=UTC:20250322T100000
DTEND;TZID=UTC:20250322T100000
DTSTAMP:20260423T151847
CREATED:20250109T155928Z
LAST-MODIFIED:20250109T155928Z
UID:654-1742637600-1742637600@congregationansheemeth.site
SUMMARY:Bar Mitzvah
DESCRIPTION:Bar Mitzvah for David Kaplowitz.
URL:https://congregationansheemeth.site/event/bar-mitzvah/
LOCATION:Congregation Anshe Emeth\, 240 Joslen Blvd.\, Hudson\, NY
END:VEVENT
BEGIN:VEVENT
DTSTART;TZID=UTC:20250321T190000
DTEND;TZID=UTC:20250321T190000
DTSTAMP:20260423T151847
CREATED:20250109T155818Z
LAST-MODIFIED:20250109T155818Z
UID:652-1742583600-1742583600@congregationansheemeth.site
SUMMARY:Services
DESCRIPTION:
URL:https://congregationansheemeth.site/event/services-6/
LOCATION:Congregation Anshe Emeth\, 240 Joslen Blvd.\, Hudson\, NY
END:VEVENT
BEGIN:VEVENT
DTSTART;TZID=UTC:20250313T173000
DTEND;TZID=UTC:20250313T173000
DTSTAMP:20260423T151847
CREATED:20250109T155732Z
LAST-MODIFIED:20250109T155732Z
UID:650-1741887000-1741887000@congregationansheemeth.site
SUMMARY:Purim
DESCRIPTION:Dinner and megillah reading.
URL:https://congregationansheemeth.site/event/purim/
LOCATION:Congregation Anshe Emeth\, 240 Joslen Blvd.\, Hudson\, NY
END:VEVENT
BEGIN:VEVENT
DTSTART;TZID=UTC:20250310T130000
DTEND;TZID=UTC:20250310T130000
DTSTAMP:20260423T151847
CREATED:20250227T170024Z
LAST-MODIFIED:20250227T170025Z
UID:697-1741611600-1741611600@congregationansheemeth.site
SUMMARY:Yiddish Tangos and Klezmer Mambos
DESCRIPTION:This panel discussion will explore the remarkable influence of Latin American music and dance on the culture of Yiddish speaking communities in the United States. Ronald Robboy will discuss Latin American musical influences upon Yiddish theater composers\, including Sholom Secunda\, Abraham Ellstein\, and Alexander Olshanetsky; Sonia Gollance will discuss the popularity of dances like the Tango and Mambo in the Borscht Belt\, as exemplified by movies like Dirty Dancing and Mamboniks; and Josh Kun will discuss the influence of Latin American music on post-war Jewish music and the influence of Jewish music on U.S. Latino/a artists. \n  \n  \nhttps://yivo.org/Yiddish-Tangos
URL:https://congregationansheemeth.site/event/yiddish-tangos-and-klezmer-mambos/
LOCATION:NY
END:VEVENT
BEGIN:VEVENT
DTSTART;TZID=UTC:20250308T100000
DTEND;TZID=UTC:20250308T100000
DTSTAMP:20260423T151847
CREATED:20250109T155604Z
LAST-MODIFIED:20250109T155604Z
UID:648-1741428000-1741428000@congregationansheemeth.site
SUMMARY:Services
DESCRIPTION:
URL:https://congregationansheemeth.site/event/services-5/
LOCATION:Congregation Anshe Emeth\, 240 Joslen Blvd.\, Hudson\, NY
END:VEVENT
BEGIN:VEVENT
DTSTART;TZID=UTC:20250306T190000
DTEND;TZID=UTC:20250306T190000
DTSTAMP:20260423T151847
CREATED:20250227T165923Z
LAST-MODIFIED:20250227T165923Z
UID:695-1741287600-1741287600@congregationansheemeth.site
SUMMARY:Andrzej Cieplinski Plays Jewish Clarinet Masterworks
DESCRIPTION:Distinguished Warsaw-based clarinetist Andrzej Ciepliński will appear in a rare American recital performing Jewish classical music masterworks. This program will feature Alexander Krein’s two suites of “Jewish Sketches” for Clarinet and String Quartet which take inspiration from Yiddish folksong and Klezmer music and Joseph Achron’s Kindersuite\, a collection of character pieces inspired by Hebrew cantillation for clarinet\, string quartet\, and piano. The program will also feature a new work by YIVO’s own Alex Weiser and selections from Ciepliński’s Limanowa project which features recently discovered pre-Holocaust Jewish music found in a small town in Southern Poland. Sergei Prokofiev’s beloved Overture on Hebrew Themes completes the program. Ciepliński will be joined by cellist Julian Schwarz\, pianist Marika Bournaki\, violinists Peter Sirotin and Daniel Kurganov\, and violist Colin Brookes. \n  \nhttps://secure2.convio.net/yivo/site/Ticketing?view=Tickets&id=105348
URL:https://congregationansheemeth.site/event/andrzej-cieplinski-plays-jewish-clarinet-masterworks/
LOCATION:NY
END:VEVENT
BEGIN:VEVENT
DTSTART;TZID=UTC:20250305T183000
DTEND;TZID=UTC:20250305T183000
DTSTAMP:20260423T151847
CREATED:20250227T165614Z
LAST-MODIFIED:20250227T165614Z
UID:690-1741199400-1741199400@congregationansheemeth.site
SUMMARY:Purim Zoom Class
DESCRIPTION:
URL:https://congregationansheemeth.site/event/purim-zoom-class/
LOCATION:NY
END:VEVENT
BEGIN:VEVENT
DTSTART;TZID=UTC:20250302T170000
DTEND;TZID=UTC:20250302T170000
DTSTAMP:20260423T151847
CREATED:20250227T165744Z
LAST-MODIFIED:20250227T165744Z
UID:693-1740934800-1740934800@congregationansheemeth.site
SUMMARY:Last Twilight in Paris Zoom Class
DESCRIPTION:In Honor of Women’s History Month \nA Virtual Evening with New York Times Bestselling Author \nPam Jenoff \nAuthor of \nLast Twilight in Paris \nNew this week on the NEW YORK TIMES BEST SELLER LIST \nin Conversation with \nDr. Miriam Klein Kassenoff \n\nA Parisian department store\, a mysterious necklace and a woman’s quest to unlock a decade-old mystery are at the center of this riveting novel of love and survival\, from New York Times bestselling author\, Pam Jenoff.
URL:https://congregationansheemeth.site/event/last-twilight-in-paris-zoom-class/
LOCATION:NY
END:VEVENT
BEGIN:VEVENT
DTSTART;TZID=UTC:20250222T100000
DTEND;TZID=UTC:20250222T100000
DTSTAMP:20260423T151847
CREATED:20250109T155521Z
LAST-MODIFIED:20250109T155521Z
UID:645-1740218400-1740218400@congregationansheemeth.site
SUMMARY:Services
DESCRIPTION:
URL:https://congregationansheemeth.site/event/services-4/
LOCATION:Congregation Anshe Emeth\, 240 Joslen Blvd.\, Hudson\, NY
END:VEVENT
BEGIN:VEVENT
DTSTART;TZID=UTC:20250207T190000
DTEND;TZID=UTC:20250207T190000
DTSTAMP:20260423T151847
CREATED:20250109T155431Z
LAST-MODIFIED:20250109T155431Z
UID:642-1738954800-1738954800@congregationansheemeth.site
SUMMARY:Services
DESCRIPTION:
URL:https://congregationansheemeth.site/event/services-3/
LOCATION:Congregation Anshe Emeth\, 240 Joslen Blvd.\, Hudson\, NY
END:VEVENT
BEGIN:VEVENT
DTSTART;TZID=UTC:20250125T100000
DTEND;TZID=UTC:20250125T100000
DTSTAMP:20260423T151847
CREATED:20250101T144957Z
LAST-MODIFIED:20250101T144957Z
UID:633-1737799200-1737799200@congregationansheemeth.site
SUMMARY:Services
DESCRIPTION:
URL:https://congregationansheemeth.site/event/services-2/
LOCATION:Congregation Anshe Emeth\, 240 Joslen Blvd.\, Hudson\, NY
END:VEVENT
BEGIN:VEVENT
DTSTART;TZID=UTC:20250110T190000
DTEND;TZID=UTC:20250110T190000
DTSTAMP:20260423T151847
CREATED:20250101T144922Z
LAST-MODIFIED:20250103T145502Z
UID:631-1736535600-1736535600@congregationansheemeth.site
SUMMARY:Services
DESCRIPTION:
URL:https://congregationansheemeth.site/event/services/
LOCATION:Congregation Anshe Emeth\, 240 Joslen Blvd.\, Hudson\, NY
END:VEVENT
BEGIN:VEVENT
DTSTART;TZID=UTC:20241225T000000
DTEND;TZID=UTC:20241225T000000
DTSTAMP:20260423T151847
CREATED:20240906T183409Z
LAST-MODIFIED:20240906T183409Z
UID:294-1735084800-1735084800@congregationansheemeth.site
SUMMARY:Chanukah 1st Candle
DESCRIPTION:
URL:https://congregationansheemeth.site/event/chanukah-1st-candle/
LOCATION:NY
END:VEVENT
BEGIN:VEVENT
DTSTART;TZID=UTC:20241222T110000
DTEND;TZID=UTC:20241222T110000
DTSTAMP:20260423T151847
CREATED:20241030T152054Z
LAST-MODIFIED:20241030T152054Z
UID:485-1734865200-1734865200@congregationansheemeth.site
SUMMARY:Chanukah Party
DESCRIPTION:
URL:https://congregationansheemeth.site/event/chanukah-party/
LOCATION:Congregation Anshe Emeth\, 240 Joslen Blvd.\, Hudson\, NY
END:VEVENT
BEGIN:VEVENT
DTSTART;TZID=UTC:20241221T100000
DTEND;TZID=UTC:20241221T100000
DTSTAMP:20260423T151847
CREATED:20241015T152949Z
LAST-MODIFIED:20241015T152949Z
UID:373-1734775200-1734775200@congregationansheemeth.site
SUMMARY:Saturday Service
DESCRIPTION:Join us for service at 10 am.
URL:https://congregationansheemeth.site/event/saturday-service/
LOCATION:Congregation Anshe Emeth\, 240 Joslen Blvd.\, Hudson\, NY
END:VEVENT
BEGIN:VEVENT
DTSTART;TZID=UTC:20241207T000000
DTEND;TZID=UTC:20241207T235959
DTSTAMP:20260423T151847
CREATED:20241015T152841Z
LAST-MODIFIED:20241015T152841Z
UID:371-1733529600-1733615999@congregationansheemeth.site
SUMMARY:Winter Walk
DESCRIPTION:
URL:https://congregationansheemeth.site/event/winter-walk/
LOCATION:NY
END:VEVENT
BEGIN:VEVENT
DTSTART;TZID=UTC:20241206T190000
DTEND;TZID=UTC:20241206T190000
DTSTAMP:20260423T151847
CREATED:20241015T152726Z
LAST-MODIFIED:20241015T152726Z
UID:368-1733511600-1733511600@congregationansheemeth.site
SUMMARY:Friday Night Service
DESCRIPTION:Friday night services at 7 pm.
URL:https://congregationansheemeth.site/event/friday-night-service-2/
LOCATION:Congregation Anshe Emeth\, 240 Joslen Blvd.\, Hudson\, NY
END:VEVENT
END:VCALENDAR